BEGIN:VCALENDAR
VERSION:2.0
PRODID:-//Al-Anon / Alateen Nebraska Area 33 - ECPv6.15.20//NONSGML v1.0//EN
CALSCALE:GREGORIAN
METHOD:PUBLISH
X-WR-CALNAME:Al-Anon / Alateen Nebraska Area 33
X-ORIGINAL-URL:https://nebr-al-anon-alateen.org
X-WR-CALDESC:Events for Al-Anon / Alateen Nebraska Area 33
REFRESH-INTERVAL;VALUE=DURATION:PT1H
X-Robots-Tag:noindex
X-PUBLISHED-TTL:PT1H
BEGIN:VTIMEZONE
TZID:America/Chicago
BEGIN:DAYLIGHT
TZOFFSETFROM:-0600
TZOFFSETTO:-0500
TZNAME:CDT
DTSTART:20250309T080000
END:DAYLIGHT
BEGIN:STANDARD
TZOFFSETFROM:-0500
TZOFFSETTO:-0600
TZNAME:CST
DTSTART:20251102T070000
END:STANDARD
BEGIN:DAYLIGHT
TZOFFSETFROM:-0600
TZOFFSETTO:-0500
TZNAME:CDT
DTSTART:20260308T080000
END:DAYLIGHT
BEGIN:STANDARD
TZOFFSETFROM:-0500
TZOFFSETTO:-0600
TZNAME:CST
DTSTART:20261101T070000
END:STANDARD
BEGIN:DAYLIGHT
TZOFFSETFROM:-0600
TZOFFSETTO:-0500
TZNAME:CDT
DTSTART:20270314T080000
END:DAYLIGHT
BEGIN:STANDARD
TZOFFSETFROM:-0500
TZOFFSETTO:-0600
TZNAME:CST
DTSTART:20271107T070000
END:STANDARD
END:VTIMEZONE
BEGIN:VEVENT
DTSTART;VALUE=DATE:20260606
DTEND;VALUE=DATE:20260607
DTSTAMP:20260423T154924
CREATED:20200122T024859Z
LAST-MODIFIED:20260331T015517Z
UID:3916-1780704000-1780790399@nebr-al-anon-alateen.org
SUMMARY:Nebraska Area 33 Assembly (June 6\, 2026)
DESCRIPTION:The June 2026 Assembly will be held June 6. \nLocation: Quality Inn and Conference Center\, 7838 S. Hwy 281\, Grand Island\, NE 68803 (Just south of I-80 and Hwy 281 interchange) 308 210 2124
URL:https://nebr-al-anon-alateen.org/event/nebraska-area-33-assembly-april-2-2022-and-awsc-meeting-june-6-2026/
LOCATION:Quality Inn and Conference Center\, 2828 S Hwy 281\, Grand Island\, NE\, 68803\, United States
CATEGORIES:Area 33 Assembly and AWSC Meetings
END:VEVENT
END:VCALENDAR